BEGIN:VCALENDAR
VERSION:2.0
PRODID:-//CHAMBER DASHBOARD//EVENTS CALENDAR2.0//EN
CALSCALE:GREGORIAN
BEGIN:VEVENT
DTEND:20260523T030000Z
UID:69e907b59507d
DTSTAMP:20260422T173901Z
CATEGORIES:Entertainment
LOCATION:The American Legion - Young &amp; Richardson Post 59 
DESCRIPTION:Every Friday!
URL;VALUE=URI:https://ghcocnh.org/event/karaoke-night/karaoke-night-5
SUMMARY:Karaoke Night
DTSTART:20260523T000000Z
END:VEVENT
END:VCALENDAR
