BEGIN:VCALENDAR
VERSION:2.0
PRODID:-//CHAMBER DASHBOARD//EVENTS CALENDAR2.0//EN
CALSCALE:GREGORIAN
BEGIN:VEVENT
DTEND:20260515T010000Z
UID:69e8d89e860a7
DTSTAMP:20260422T141806Z
CATEGORIES:Entertainment\,Workshops &amp\; Trainings
LOCATION:Moose Lodge 
DESCRIPTION:Join us for a bite to eat\, some fun\, and a paint n&amp\; sip! All for $40!
URL;VALUE=URI:https://ghcocnh.org/event/ladies-night-2
SUMMARY:Ladies&#039\; Night
DTSTART:20260514T230000Z
END:VEVENT
END:VCALENDAR
