BEGIN:VCALENDAR
VERSION:2.0
PRODID:-//CHAMBER DASHBOARD//EVENTS CALENDAR2.0//EN
CALSCALE:GREGORIAN
BEGIN:VEVENT
DTEND:20260519T010000Z
UID:69e58eebf047d
DTSTAMP:20260420T022651Z
DESCRIPTION:Cmon and kick up those heels    Mondays at 7 PM. $5 at the door!
URL;VALUE=URI:https://ghcocnh.org/event/line-dancing/line-dancing-3
SUMMARY:Line Dancing
DTSTART:20260519T000000Z
END:VEVENT
END:VCALENDAR
