BEGIN:VCALENDAR
VERSION:2.0
PRODID:-//CHAMBER DASHBOARD//EVENTS CALENDAR2.0//EN
CALSCALE:GREGORIAN
BEGIN:VEVENT
DTEND:20260509T180000Z
UID:69e8da52396b7
DTSTAMP:20260422T142522Z
CATEGORIES:Business Event\,Community
LOCATION:Monadnock Green Shop 
DESCRIPTION:Mother's Day Pop-Up alert!    Celebrate the moms in your life with handcrafted jewelry from Carmon Designs Jewelry and a fresh flower bar from Farmhausv-vall in one spot at Monadnock Green Shop.    Build her bouquet\, find her gift\, make her day!
URL;VALUE=URI:https://ghcocnh.org/event/mothers-day-pop-up
SUMMARY:Mother&#039\;s Day Pop-Up
DTSTART:20260509T150000Z
END:VEVENT
END:VCALENDAR
