BEGIN:VCALENDAR
VERSION:2.0
PRODID:-//CHAMBER DASHBOARD//EVENTS CALENDAR2.0//EN
CALSCALE:GREGORIAN
BEGIN:VEVENT
DTEND:20241012T220000Z
UID:69e73058cee82
DTSTAMP:20260421T080752Z
CATEGORIES:Community
DESCRIPTION:Friday\, October 11th - Sunday\, October 13th\, 2024    9:00 AM - 5:00 PM    Main Street\, Warner\, NH    https://wfff.org
URL;VALUE=URI:https://ghcocnh.org/event/warner-fall-foliage-festival
SUMMARY:Warner Fall Foliage Festival
DTSTART:20241012T140000Z
END:VEVENT
END:VCALENDAR
